BEGIN:VCALENDAR
VERSION:2.0
PRODID:icalendar-ruby
CALSCALE:GREGORIAN
METHOD:PUBLISH
BEGIN:VEVENT
DTSTAMP:20260424T171546Z
UID:ad9bdccc-9433-4774-b7fd-ca005cd9e11c
DTSTART:20260101T140000
DTEND:20260102T020000
DESCRIPTION:<p><strong style="color: rgb(34\, 34\, 34)\;">Start your year w
 here the sun kisses the sea...</strong></p><p><span style="color: rgb(34\,
  34\, 34)\;">Grand Africa Café & Beach sets the stage for a New Year’s 
 Day like no other!</span></p><p><span style="color: rgb(34\, 34\, 34)\;">T
 he perfect place to reset\, reconnect\, and revel.</span></p><p><span styl
 e="color: rgb(34\, 34\, 34)\;">Dance barefoot in the sand\, sip something 
 golden\, and start 2026 surrounded by friends and magic.</span></p><p><spa
 n style="color: rgb(34\, 34\, 34)\;">With world-class DJs\, a breathtaking
  ocean backdrop\, and that unmistakable SGL energy\, the first day of the 
 year feels exactly as it should… free\, joyful\, and full of promise.</s
 pan></p>
LOCATION:V&A Waterfront\, Grand Africa Café & Beach\, Granger Bay 1 Haul R
 d\, Granger Bay Blvd
SUMMARY:Sexy Groovy Love - New Year's Day 2026
URL;VALUE=URI:https://sgl.howler.co.za/sglnyd2026
END:VEVENT
END:VCALENDAR
