BEGIN:VCALENDAR
VERSION:2.0
PRODID:icalendar-ruby
CALSCALE:GREGORIAN
METHOD:PUBLISH
BEGIN:VEVENT
DTSTAMP:20260424T190409Z
UID:84847b02-2405-4d33-8754-6387086bacbb
DTSTART:20231231T153000
DTEND:20240101T020000
DESCRIPTION:<p><span style="color: rgb(0\, 0\, 0)\;">The most anticipated n
 ight of the year approaches\, and there is no one we’d rather share a mi
 dnight kiss with than all of you\, our treasured Lovers. We’ll be return
 ing to The Castle to bid farewell to this chapter and revel in gratitude f
 or all the experiences shared and memories made along the way. </span></p
 ><p><span style="color: rgb(0\, 0\, 0)\;">Join us on a voyage as we commem
 orate the days gone by in a realm of celestial allure\, nestled within the
  heart of the legendary Lichtenstein Castle. Immerse yourself within the C
 astle's loving embrace for a New Year's Eve gathering that will etch its m
 emory onto the walls of our hearts for many a year to come.</span></p><p><
 span style="color: rgb(0\, 0\, 0)\;">The Castle has sold out every year si
 nce its inception. Tickets are extremely limited to 800\, so book early to
  avoid disappointment. </span></p>
LOCATION:Harbour Rd\, Hout Bay\, Cape Town\, 7806
SUMMARY:Sexy Groovy Love - New Year's Eve 2023
URL;VALUE=URI:https://sgl.howler.co.za/SGLTheCastleNYE
END:VEVENT
END:VCALENDAR
