BEGIN:VCALENDAR
VERSION:2.0
PRODID:icalendar-ruby
CALSCALE:GREGORIAN
METHOD:PUBLISH
BEGIN:VEVENT
DTSTAMP:20260424T195934Z
UID:6e856947-a553-444c-be12-b907035de027
DTSTART:20221226T140000
DTEND:20221227T000000
DESCRIPTION:<p><span style="background-color: transparent\; color: rgb(14\,
  16\, 26)\;">Things are getting extra festive this season as SGL goes On H
 oliday! We’re road-tripping down the garden route to Plettenberg Bay\, S
 outh Africa’s premier coastal holiday destination\, and all you Sexy Gro
 ovy Lovers are invited to join the adventure. We’ll celebrate this vacat
 ion at CoCo Valley\, with its sprawling fields and ocean breeze\, just a s
 tone's throw away from the shore. This is one getaway you won't want to mi
 ss. Pack your bags and grab your tickets\, we’re going on Holiday!</span
 ></p><p><br></p><p><span style="background-color: transparent\; color: rgb
 (14\, 16\, 26)\;">🎟️ TICKETS 🎟️</span></p><p><span style="backgr
 ound-color: transparent\; color: rgb(14\, 16\, 26)\;">SGL On Holiday has a
  limited capacity so be sure to secure your spot and be part of the sexy g
 roovy lovin’ holiday adventure. Tickets are available at - </span><a hre
 f="http://www.sexygroovylove.com/tickets" target="_blank" style="backgroun
 d-color: transparent\; color: rgb(74\, 110\, 224)\;">www.sexygroovylove.co
 m/tickets</a></p><p><span style="background-color: transparent\; color: rg
 b(14\, 16\, 26)\;">Strictly no under 18s. </span></p><p><br></p><p><span 
 style="background-color: transparent\; color: rgb(14\, 16\, 26)\;">🎵Ear
 ly Bird (anytime): R320</span></p><p><span style="background-color: transp
 arent\; color: rgb(14\, 16\, 26)\;">🎵Sexy Bird (arrive before 15:00): R
 380</span></p><p><span style="background-color: transparent\; color: rgb(1
 4\, 16\, 26)\;">🎵Sexy Bird (anytime): R420</span></p><p><span style="ba
 ckground-color: transparent\; color: rgb(14\, 16\, 26)\;">🎵Sexy Bird Gr
 oup of 6 (anytime): R350</span></p><p><span style="color: rgb(14\, 16\, 26
 )\;">🎵Sexy Bird Table Ticket (anytime): R600</span></p><p><span style="
 background-color: transparent\; color: rgb(14\, 16\, 26)\;">🎵Late Bird 
 (anytime): R480</span></p><p><span style="background-color: transparent\; 
 color: rgb(14\, 16\, 26)\;">🎵Late Bird Group of 6 (anytime): R400</span
 ></p><p><span style="background-color: transparent\; color: rgb(14\, 16\, 
 26)\;">*All prices exclude booking fees</span></p><p><br></p><p><span styl
 e="background-color: transparent\; color: rgb(14\, 16\, 26)\;">TABLE BOOKI
 NGS:</span></p><p><span style="background-color: transparent\; color: rgb(
 14\, 16\, 26)\;">Move and groove in the comfort of your own space!</span><
 /p><p><br></p><p><span style="background-color: transparent\; color: rgb(1
 4\, 16\, 26)\;">THE VENUE</span></p><p><span style="background-color: tran
 sparent\; color: rgb(14\, 16\, 26)\;">CoCo Valley hosts an array of summer
  festivals and is the place to be if you’re looking for a groovy outdoor
  experience in Plettenberg Bay over the summer season. With its wide expan
 ses and crisp ocean air\, it’s the perfect place to host our holiday get
 away. Our venue announcement video will be released closer to our departur
 e\, giving you a birds-eye view of the summertime sensation that awaits us
  as we journey down the coast.</span></p><p><br></p><p><span style="backgr
 ound-color: transparent\; color: rgb(14\, 16\, 26)\;">🚗💨 PARKING & S
 GL SHUTTLES 🚗💨</span></p><p><span style="background-color: transpare
 nt\; color: rgb(0\, 0\, 0)\;">There will be offsite parking available\, wi
 th private SGL shuttles taking you right into the heart of all the holiday
  action. More information will be released on this closer to the time.</sp
 an></p><p><span style="background-color: transparent\; color: rgb(14\, 16\
 , 26)\;">REFUND POLICY</span></p><p><span style="background-color: transpa
 rent\; color: rgb(14\, 16\, 26)\;">Standard Howler ticket refund policy ap
 plies.</span></p><p><span style="background-color: transparent\; color: rg
 b(14\, 16\, 26)\;">MEDIA & PRESS ENQUIRIES </span></p><p><span style="bac
 kground-color: transparent\; color: rgb(14\, 16\, 26)\;">Please direct all
  queries to Ashley: ashley@luckyfishevents.co.za</span></p><p><br></p><p><
 span style="background-color: transparent\; color: rgb(14\, 16\, 26)\;">
 🚓 THE NOT-SO-SEXY-STUFF (DISCLAIMER) 🚒</span></p><p><span style="bac
 kground-color: transparent\; color: rgb(14\, 16\, 26)\;">Attendees assume 
 all risk and danger incidental to the attendance of this event (in any cap
 acity\, including making use of transport provided) and release the owners
  of CoCo Valley\, DVM Events\, Lucky Fish Events\, and their employees\, s
 uppliers\, sponsors or representatives from any and all liabilities\, dama
 ges\, costs\, and expenses arising from any cause whatsoever. This include
 s but is not limited to any damage\, theft\, or loss of property or earnin
 gs\, as well as any death or injury or damage to any person while utilizin
 g transport provided and/or within the premises of the CoCo Valley before\
 , during or after the event. Attendees are not permitted to bring their ow
 n drinks into the venue. No U21s. The right of admission is reserved.</spa
 n></p><p><span style="background-color: transparent\; color: rgb(14\, 16\,
  26)\;">Sexy Groovy Love is brought to you by DVM Events & Lucky Fish Even
 ts.</span></p><p><br></p><p><br></p><p><br></p>
LOCATION:Airport Road Roodefontein\, Plettenberg Bay\, 6600
SUMMARY:Sexy Groovy Love on Holiday with Bloem (IBZ)\, GiZ (GER)\, Culoe De
  Song & Dean Fuel
URL;VALUE=URI:https://sgl.howler.co.za/sglonholiday
END:VEVENT
END:VCALENDAR
